Workbook

Sheet Sheet1
A1: Luas Areal Tanaman Perkebunan Rakyat Menurut Jenis Tanaman di Kabupaten Rembang (Ribu ha)
A3: Jenis Tanaman Kind of Plant | B3: Tanaman Perkebunan Rakyat/ Smallholders Estates Crops
B5: 2019 | C5: 2020 | D5: 2021 | E5: 2022 | F5: 2023 | G5: 2024 | H5: 2025
A6: (1) | B6: (2) | C6: (3) | D6: (4) | E6: (5) | F6: (6) | G6: (7) | H6: (7)
A7: Karet/ Rubber | B7: - | C7: - | D7: - | E7: - | F7: - | G7: - | H7: -
A8: Kelapa/ Coconut | B8: =7308/1000 -> 7.308 | C8: =7296/1000 -> 7.296 | D8: =6706/1000 -> 6.706 | E8: =6472/1000 -> 6.472 | F8: =6321/1000 -> 6.321 | G8: =5963/1000 -> 5.963 | H8: =('51 dan 52'!F20)/1000 -> #REF!
A9: Kelapa sawit/ Ori palm | B9: - | C9: - | D9: - | E9: - | F9: - | G9: -
A10: Kopi/ Coffee | B10: =202/1000 -> 0.202 | C10: =122/1000 -> 0.122 | D10: =232/1000 -> 0.232 | E10: =203/1000 -> 0.203 | F10: =205/1000 -> 0.205 | G10: =192/1000 -> 0.192 | H10: =('51 dan 52'!F132)/1000 -> #REF!
A11: Kakao/ Cocoa | B11: - | C11: - | D11: - | E11: - | F11: - | G11: -
A12: Teh/ Tea | B12: - | C12: - | D12: - | E12: - | F12: - | G12: -
A13: Jambu mete/ Cashew nut | B13: =509/1000 -> 0.509 | C13: =509/1000 -> 0.509 | D13: =425/1000 -> 0.425 | E13: =348/1000 -> 0.348 | F13: =279/1000 -> 0.279 | G13: =263/1000 -> 0.263 | H13: =('51 dan 52'!F104)/1000 -> #REF!
A14: Pala/ Nutmeg | B14: - | C14: - | D14: - | E14: - | F14: - | G14: -
A15: Lada/ Pepper | B15: - | C15: - | D15: - | E15: - | F15: - | G15: -
A16: Cengkeh/ Clove | B16: =430/1000 -> 0.43 | C16: =430/1000 -> 0.43 | D16: =384/1000 -> 0.384 | E16: =322/1000 -> 0.322 | F16: =264/1000 -> 0.264 | G16: =245/1000 -> 0.245 | H16: =('51 dan 52'!F76)/1000 -> #REF!
A17: Tebu/ Sugar cane | B17: =9062/1000 -> 9.062 | C17: =8862/1000 -> 8.862 | D17: =8724/1000 -> 8.724 | E17: =8972/1000 -> 8.972 | F17: =8934/1000 -> 8.934 | G17: =8999/1000 -> 8.999 | H17: =('51 dan 52'!C244+'51 dan 52'!C272)/1000 -> #REF!
A18: Tembakau/ Tobacco | B18: =4441/1000 -> 4.441 | C18: =5042/1000 -> 5.042 | D18: =5298/1000 -> 5.298 | E18: =5207/1000 -> 5.207 | F18: =6328/1000 -> 6.328 | G18: =7318/1000 -> 7.318 | H18: =('51 dan 52'!C216)/1000 -> #REF!
A19: Nilam/ Patchouli | B19: - | C19: - | D19: - | E19: - | F19: - | G19: -
